BEGIN:VCALENDAR
VERSION:2.0
PRODID:-//The Redcliffe Hotel - ECPv6.6.2//NONSGML v1.0//EN
CALSCALE:GREGORIAN
METHOD:PUBLISH
X-ORIGINAL-URL:http://www.redcliffehotel.co.uk
X-WR-CALDESC:Events for The Redcliffe Hotel
REFRESH-INTERVAL;VALUE=DURATION:PT1H
X-Robots-Tag:noindex
X-PUBLISHED-TTL:PT1H
BEGIN:VTIMEZONE
TZID:UTC
BEGIN:STANDARD
TZOFFSETFROM:+0000
TZOFFSETTO:+0000
TZNAME:UTC
DTSTART:20240101T000000
END:STANDARD
END:VTIMEZONE
BEGIN:VEVENT
DTSTART;TZID=UTC:20241009T100000
DTEND;TZID=UTC:20241009T110000
DTSTAMP:20260422T093040
CREATED:20240927T105834Z
LAST-MODIFIED:20240927T143459Z
UID:9395-1728468000-1728471600@www.redcliffehotel.co.uk
SUMMARY:Vinyasa Krama Yoga
DESCRIPTION:Every Wednesday\n\nBeginners | 10am\n\nIntermediate | 11.15am\n\n£10pp\n\nLet’s breathe\, stretch\, flow and let go. Yoga can help you to cope with stress and improve your wellbeing as well as help develop flexibility\, strength\, balance and coordination.\n\nContact 07766 882 931 to book.
URL:http://www.redcliffehotel.co.uk/event/vinyasa-krama-yoga-9th-oct/
ATTACH;FMTTYPE=image/png:http://www.redcliffehotel.co.uk/wp-content/uploads/2024/09/Untitled-design62.png
END:VEVENT
END:VCALENDAR