BEGIN:VCALENDAR
VERSION:2.0
PRODID:-//The Redcliffe Hotel - ECPv6.6.2//NONSGML v1.0//EN
CALSCALE:GREGORIAN
METHOD:PUBLISH
X-WR-CALNAME:The Redcliffe Hotel
X-ORIGINAL-URL:http://www.redcliffehotel.co.uk
X-WR-CALDESC:Events for The Redcliffe Hotel
REFRESH-INTERVAL;VALUE=DURATION:PT1H
X-Robots-Tag:noindex
X-PUBLISHED-TTL:PT1H
BEGIN:VTIMEZONE
TZID:UTC
BEGIN:STANDARD
TZOFFSETFROM:+0000
TZOFFSETTO:+0000
TZNAME:UTC
DTSTART:20240101T000000
END:STANDARD
END:VTIMEZONE
BEGIN:VEVENT
DTSTART;TZID=UTC:20241024T193000
DTEND;TZID=UTC:20241024T220000
DTSTAMP:20260422T094037
CREATED:20240927T132812Z
LAST-MODIFIED:20240927T132812Z
UID:9404-1729798200-1729807200@www.redcliffehotel.co.uk
SUMMARY:Chuckle F*ckers Comedy Show Paignton!
DESCRIPTION:Thursday 24th October\n\n£12pp\n\nJoin us for a hilarious night of comedy! Chuckle F*ckers Comedy Show are back in The Bay at a brand new venue – The Redcliffe Hotel! Hosted by Lori Smith!\n\nBook Tickets >>
URL:http://www.redcliffehotel.co.uk/event/chuckle-fckers-comedy-show-paignton/
ATTACH;FMTTYPE=image/jpeg:http://www.redcliffehotel.co.uk/wp-content/uploads/2024/09/461208762_122172561584046415_6431820685755100144_n.jpg
END:VEVENT
END:VCALENDAR